BEGIN:VCALENDAR
PRODID:http://www.kufer.de/kuferweb / DE
VERSION:2.0
METHOD:PUBLISH
CALSCALE:GREGORIAN
X-WR-TIMEZONE:Europe/Berlin
BEGIN:VTIMEZONE
TZID:Europe/Berlin
X-LIC-LOCATION:Europe/Berlin
BEGIN:DAYLIGHT
TZOFFSETFROM:+0100
TZOFFSETTO:+0200
TZNAME:CEST
DTSTART;TZID=Europe/Berlin:19700329T020000
RRULE:FREQ=YEARLY;INTERVAL=1;BYDAY=-1SU;BYMONTH=3
END:DAYLIGHT
BEGIN:STANDARD
TZOFFSETFROM:+0200
TZOFFSETTO:+0100
TZNAME:CET
DTSTART;TZID=Europe/Berlin:19701025T030000
RRULE:FREQ=YEARLY;INTERVAL=1;BYDAY=-1SU;BYMONTH=10
END:STANDARD
END:VTIMEZONE
BEGIN:VEVENT
DTSTAMP:20260426T011639
DTSTART;TZID=Europe/Berlin:20280117T090000
DTEND;TZID=Europe/Berlin:20280117T170000
UID:281502-20280117T090000@STIFTUNGLIEBENAU
SUMMARY:Geprüfte Fachkraft zur Arbeits- und Berufsförderung (GFAB) in Werkstätten für Menschen mit Behinderung oder psychischer Erkrankung Aufbaukurs 2028 Workshop 1 (281502) 
LOCATION:Haus Regina Pacis, Leutkirch, Bischof-Sproll-Str. 9, 88299 Leutkirch im Allgäu
END:VEVENT
BEGIN:VEVENT
DTSTAMP:20260426T011639
DTSTART;TZID=Europe/Berlin:20280118T090000
DTEND;TZID=Europe/Berlin:20280118T170000
UID:281502-20280118T090000@STIFTUNGLIEBENAU
SUMMARY:Geprüfte Fachkraft zur Arbeits- und Berufsförderung (GFAB) in Werkstätten für Menschen mit Behinderung oder psychischer Erkrankung Aufbaukurs 2028 Workshop 1 (281502) 
LOCATION:Haus Regina Pacis, Leutkirch, Bischof-Sproll-Str. 9, 88299 Leutkirch im Allgäu
END:VEVENT
BEGIN:VEVENT
DTSTAMP:20260426T011639
DTSTART;TZID=Europe/Berlin:20280214T090000
DTEND;TZID=Europe/Berlin:20280214T170000
UID:281503-20280214T090000@STIFTUNGLIEBENAU
SUMMARY:Geprüfte Fachkraft zur Arbeits- und Berufsförderung (gFAB) in Werkstätten für Menschen mit Behinderung oder psychischer Erkrankung / Aufbaukurs 2028 - Workshop 2 (281503) 
LOCATION:Haus Regina Pacis, Leutkirch, Bischof-Sproll-Str. 9, 88299 Leutkirch im Allgäu
END:VEVENT
BEGIN:VEVENT
DTSTAMP:20260426T011639
DTSTART;TZID=Europe/Berlin:20280215T090000
DTEND;TZID=Europe/Berlin:20280215T170000
UID:281503-20280215T090000@STIFTUNGLIEBENAU
SUMMARY:Geprüfte Fachkraft zur Arbeits- und Berufsförderung (gFAB) in Werkstätten für Menschen mit Behinderung oder psychischer Erkrankung / Aufbaukurs 2028 - Workshop 2 (281503) 
LOCATION:Haus Regina Pacis, Leutkirch, Bischof-Sproll-Str. 9, 88299 Leutkirch im Allgäu
END:VEVENT
BEGIN:VEVENT
DTSTAMP:20260426T011639
DTSTART;TZID=Europe/Berlin:20280323T090000
DTEND;TZID=Europe/Berlin:20280323T170000
UID:281504-20280323T090000@STIFTUNGLIEBENAU
SUMMARY:Geprüfte Fachkraft zur Arbeits- und Berufsförderung (gFAB) in Werkstätten für Menschen mit Behinderung oder psychischer Erkrankung / Aufbaukurs 2028 - Workshop 3 (281504) 
LOCATION:Haus Regina Pacis, Leutkirch, Bischof-Sproll-Str. 9, 88299 Leutkirch im Allgäu
END:VEVENT
BEGIN:VEVENT
DTSTAMP:20260426T011639
DTSTART;TZID=Europe/Berlin:20280324T090000
DTEND;TZID=Europe/Berlin:20280324T170000
UID:281504-20280324T090000@STIFTUNGLIEBENAU
SUMMARY:Geprüfte Fachkraft zur Arbeits- und Berufsförderung (gFAB) in Werkstätten für Menschen mit Behinderung oder psychischer Erkrankung / Aufbaukurs 2028 - Workshop 3 (281504) 
LOCATION:Haus Regina Pacis, Leutkirch, Bischof-Sproll-Str. 9, 88299 Leutkirch im Allgäu
END:VEVENT
BEGIN:VEVENT
DTSTAMP:20260426T011639
DTSTART;TZID=Europe/Berlin:20280424T100000
DTEND;TZID=Europe/Berlin:20280424T143000
UID:281505-20280424T100000@STIFTUNGLIEBENAU
SUMMARY:Geprüfte Fachkraft zur Arbeits- und Berufsförderung (gFAB) in Werkstätten für Menschen mit Behinderung oder psychischer Erkrankung / Aufbaukurs 2028 - Schriftliche Aufsichtsarbeit (281505) 
LOCATION:Schloss Liebenau - Raum 1.08 Schlosssaal, Siggenweilerstraße 11, 88074 Meckenbeuren
END:VEVENT
BEGIN:VEVENT
DTSTAMP:20260426T011639
DTSTART;TZID=Europe/Berlin:20280703T090000
DTEND;TZID=Europe/Berlin:20280703T170000
UID:281506-20280703T090000@STIFTUNGLIEBENAU
SUMMARY:Geprüfte Fachkraft zur Arbeits- und Berufsförderung (gFAB) in Werkstätten für Menschen mit Behinderung oder psychischer Erkrankung / Aufbaukurs 2028 - Fachgespräch (281506) 
LOCATION:Schloss Liebenau - Raum 3.09, Siggenweilerstraße 11, 88074 Meckenbeuren
END:VEVENT
BEGIN:VEVENT
DTSTAMP:20260426T011639
DTSTART;TZID=Europe/Berlin:20280704T090000
DTEND;TZID=Europe/Berlin:20280704T170000
UID:281506-20280704T090000@STIFTUNGLIEBENAU
SUMMARY:Geprüfte Fachkraft zur Arbeits- und Berufsförderung (gFAB) in Werkstätten für Menschen mit Behinderung oder psychischer Erkrankung / Aufbaukurs 2028 - Fachgespräch (281506) 
LOCATION:Schloss Liebenau - Raum 3.09, Siggenweilerstraße 11, 88074 Meckenbeuren
END:VEVENT
BEGIN:VEVENT
DTSTAMP:20260426T011639
DTSTART;TZID=Europe/Berlin:20280705T090000
DTEND;TZID=Europe/Berlin:20280705T170000
UID:281506-20280705T090000@STIFTUNGLIEBENAU
SUMMARY:Geprüfte Fachkraft zur Arbeits- und Berufsförderung (gFAB) in Werkstätten für Menschen mit Behinderung oder psychischer Erkrankung / Aufbaukurs 2028 - Fachgespräch (281506) 
LOCATION:Schloss Liebenau - Raum 3.09, Siggenweilerstraße 11, 88074 Meckenbeuren
END:VEVENT
BEGIN:VEVENT
DTSTAMP:20260426T011639
DTSTART;TZID=Europe/Berlin:20280706T090000
DTEND;TZID=Europe/Berlin:20280706T170000
UID:281506-20280706T090000@STIFTUNGLIEBENAU
SUMMARY:Geprüfte Fachkraft zur Arbeits- und Berufsförderung (gFAB) in Werkstätten für Menschen mit Behinderung oder psychischer Erkrankung / Aufbaukurs 2028 - Fachgespräch (281506) 
LOCATION:Schloss Liebenau - Raum 3.09, Siggenweilerstraße 11, 88074 Meckenbeuren
END:VEVENT
BEGIN:VEVENT
DTSTAMP:20260426T011639
DTSTART;TZID=Europe/Berlin:20280707T090000
DTEND;TZID=Europe/Berlin:20280707T170000
UID:281506-20280707T090000@STIFTUNGLIEBENAU
SUMMARY:Geprüfte Fachkraft zur Arbeits- und Berufsförderung (gFAB) in Werkstätten für Menschen mit Behinderung oder psychischer Erkrankung / Aufbaukurs 2028 - Fachgespräch (281506) 
LOCATION:Schloss Liebenau - Raum 3.09, Siggenweilerstraße 11, 88074 Meckenbeuren
END:VEVENT
END:VCALENDAR