BEGIN:VCALENDAR
PRODID:http://www.kufer.de/kuferweb / DE
VERSION:2.0
METHOD:PUBLISH
CALSCALE:GREGORIAN
X-WR-TIMEZONE:Europe/Berlin
BEGIN:VTIMEZONE
TZID:Europe/Berlin
X-LIC-LOCATION:Europe/Berlin
BEGIN:DAYLIGHT
TZOFFSETFROM:+0100
TZOFFSETTO:+0200
TZNAME:CEST
DTSTART;TZID=Europe/Berlin:19700329T020000
RRULE:FREQ=YEARLY;INTERVAL=1;BYDAY=-1SU;BYMONTH=3
END:DAYLIGHT
BEGIN:STANDARD
TZOFFSETFROM:+0200
TZOFFSETTO:+0100
TZNAME:CET
DTSTART;TZID=Europe/Berlin:19701025T030000
RRULE:FREQ=YEARLY;INTERVAL=1;BYDAY=-1SU;BYMONTH=10
END:STANDARD
END:VTIMEZONE
BEGIN:VEVENT
DTSTAMP:20260426T011553
DTSTART;TZID=Europe/Berlin:20260521T093000
DTEND;TZID=Europe/Berlin:20260521T160000
UID:261A44-20260521T093000@STIFTUNGLIEBENAU
SUMMARY:Zusatzqualifikation Führung für Team- und Abteilungsleitungen 2026/2027 - Kick-off (261A44) 
LOCATION:Schloss Liebenau - Raum 1.08 Schlosssaal, Siggenweilerstraße 11, 88074 Meckenbeuren
END:VEVENT
BEGIN:VEVENT
DTSTAMP:20260426T011553
DTSTART;TZID=Europe/Berlin:20260629T100000
DTEND;TZID=Europe/Berlin:20260629T200000
UID:261A45-20260629T100000@STIFTUNGLIEBENAU
SUMMARY:Zusatzqualifikation Führung für Team- und Abteilungsleitungen 2026/2027 - Teil 1 (261A45) 
LOCATION:Haus Regina Pacis, Leutkirch, Bischof-Sproll-Str. 9, 88299 Leutkirch im Allgäu
END:VEVENT
BEGIN:VEVENT
DTSTAMP:20260426T011553
DTSTART;TZID=Europe/Berlin:20260630T090000
DTEND;TZID=Europe/Berlin:20260630T200000
UID:261A45-20260630T090000@STIFTUNGLIEBENAU
SUMMARY:Zusatzqualifikation Führung für Team- und Abteilungsleitungen 2026/2027 - Teil 1 (261A45) 
LOCATION:Haus Regina Pacis, Leutkirch, Bischof-Sproll-Str. 9, 88299 Leutkirch im Allgäu
END:VEVENT
BEGIN:VEVENT
DTSTAMP:20260426T011553
DTSTART;TZID=Europe/Berlin:20260701T090000
DTEND;TZID=Europe/Berlin:20260701T200000
UID:261A45-20260701T090000@STIFTUNGLIEBENAU
SUMMARY:Zusatzqualifikation Führung für Team- und Abteilungsleitungen 2026/2027 - Teil 1 (261A45) 
LOCATION:Haus Regina Pacis, Leutkirch, Bischof-Sproll-Str. 9, 88299 Leutkirch im Allgäu
END:VEVENT
BEGIN:VEVENT
DTSTAMP:20260426T011553
DTSTART;TZID=Europe/Berlin:20260702T090000
DTEND;TZID=Europe/Berlin:20260702T160000
UID:261A45-20260702T090000@STIFTUNGLIEBENAU
SUMMARY:Zusatzqualifikation Führung für Team- und Abteilungsleitungen 2026/2027 - Teil 1 (261A45) 
LOCATION:Haus Regina Pacis, Leutkirch, Bischof-Sproll-Str. 9, 88299 Leutkirch im Allgäu
END:VEVENT
BEGIN:VEVENT
DTSTAMP:20260426T011553
DTSTART;TZID=Europe/Berlin:20261012T100000
DTEND;TZID=Europe/Berlin:20261012T200000
UID:261A46-20261012T100000@STIFTUNGLIEBENAU
SUMMARY:Zusatzqualifikation Führung für Team- und Abteilungsleitungen 2026/2027 - Teil 2 (261A46) 
LOCATION:Haus Regina Pacis, Leutkirch, Bischof-Sproll-Str. 9, 88299 Leutkirch im Allgäu
END:VEVENT
BEGIN:VEVENT
DTSTAMP:20260426T011553
DTSTART;TZID=Europe/Berlin:20261013T090000
DTEND;TZID=Europe/Berlin:20261013T200000
UID:261A46-20261013T090000@STIFTUNGLIEBENAU
SUMMARY:Zusatzqualifikation Führung für Team- und Abteilungsleitungen 2026/2027 - Teil 2 (261A46) 
LOCATION:Haus Regina Pacis, Leutkirch, Bischof-Sproll-Str. 9, 88299 Leutkirch im Allgäu
END:VEVENT
BEGIN:VEVENT
DTSTAMP:20260426T011553
DTSTART;TZID=Europe/Berlin:20261014T090000
DTEND;TZID=Europe/Berlin:20261014T160000
UID:261A46-20261014T090000@STIFTUNGLIEBENAU
SUMMARY:Zusatzqualifikation Führung für Team- und Abteilungsleitungen 2026/2027 - Teil 2 (261A46) 
LOCATION:Haus Regina Pacis, Leutkirch, Bischof-Sproll-Str. 9, 88299 Leutkirch im Allgäu
END:VEVENT
BEGIN:VEVENT
DTSTAMP:20260426T011553
DTSTART;TZID=Europe/Berlin:20261214T100000
DTEND;TZID=Europe/Berlin:20261214T200000
UID:261A47-20261214T100000@STIFTUNGLIEBENAU
SUMMARY:Zusatzqualifikation Führung für Team- und Abteilungsleitungen 2026/2027 - Teil 3 (261A47) 
LOCATION:Haus Regina Pacis, Leutkirch, Bischof-Sproll-Str. 9, 88299 Leutkirch im Allgäu
END:VEVENT
BEGIN:VEVENT
DTSTAMP:20260426T011553
DTSTART;TZID=Europe/Berlin:20261215T090000
DTEND;TZID=Europe/Berlin:20261215T200000
UID:261A47-20261215T090000@STIFTUNGLIEBENAU
SUMMARY:Zusatzqualifikation Führung für Team- und Abteilungsleitungen 2026/2027 - Teil 3 (261A47) 
LOCATION:Haus Regina Pacis, Leutkirch, Bischof-Sproll-Str. 9, 88299 Leutkirch im Allgäu
END:VEVENT
BEGIN:VEVENT
DTSTAMP:20260426T011553
DTSTART;TZID=Europe/Berlin:20261216T090000
DTEND;TZID=Europe/Berlin:20261216T200000
UID:261A47-20261216T090000@STIFTUNGLIEBENAU
SUMMARY:Zusatzqualifikation Führung für Team- und Abteilungsleitungen 2026/2027 - Teil 3 (261A47) 
LOCATION:Haus Regina Pacis, Leutkirch, Bischof-Sproll-Str. 9, 88299 Leutkirch im Allgäu
END:VEVENT
BEGIN:VEVENT
DTSTAMP:20260426T011553
DTSTART;TZID=Europe/Berlin:20261217T090000
DTEND;TZID=Europe/Berlin:20261217T160000
UID:261A47-20261217T090000@STIFTUNGLIEBENAU
SUMMARY:Zusatzqualifikation Führung für Team- und Abteilungsleitungen 2026/2027 - Teil 3 (261A47) 
LOCATION:Haus Regina Pacis, Leutkirch, Bischof-Sproll-Str. 9, 88299 Leutkirch im Allgäu
END:VEVENT
BEGIN:VEVENT
DTSTAMP:20260426T011553
DTSTART;TZID=Europe/Berlin:20270127T100000
DTEND;TZID=Europe/Berlin:20270127T200000
UID:271A13-20270127T100000@STIFTUNGLIEBENAU
SUMMARY:Zusatzqualifikation Führung für Team- und Abteilungsleitungen 2026/2027 - Teil 4 (271A13) 
LOCATION:Haus Regina Pacis, Leutkirch, Bischof-Sproll-Str. 9, 88299 Leutkirch im Allgäu
END:VEVENT
BEGIN:VEVENT
DTSTAMP:20260426T011553
DTSTART;TZID=Europe/Berlin:20270128T090000
DTEND;TZID=Europe/Berlin:20270128T200000
UID:271A13-20270128T090000@STIFTUNGLIEBENAU
SUMMARY:Zusatzqualifikation Führung für Team- und Abteilungsleitungen 2026/2027 - Teil 4 (271A13) 
LOCATION:Haus Regina Pacis, Leutkirch, Bischof-Sproll-Str. 9, 88299 Leutkirch im Allgäu
END:VEVENT
BEGIN:VEVENT
DTSTAMP:20260426T011553
DTSTART;TZID=Europe/Berlin:20270129T090000
DTEND;TZID=Europe/Berlin:20270129T160000
UID:271A13-20270129T090000@STIFTUNGLIEBENAU
SUMMARY:Zusatzqualifikation Führung für Team- und Abteilungsleitungen 2026/2027 - Teil 4 (271A13) 
LOCATION:Haus Regina Pacis, Leutkirch, Bischof-Sproll-Str. 9, 88299 Leutkirch im Allgäu
END:VEVENT
BEGIN:VEVENT
DTSTAMP:20260426T011553
DTSTART;TZID=Europe/Berlin:20270405T100000
DTEND;TZID=Europe/Berlin:20270405T200000
UID:271A14-20270405T100000@STIFTUNGLIEBENAU
SUMMARY:Zusatzqualifikation Führung für Team- und Abteilungsleitungen 2026/2027 - Teil 5 (271A14) 
LOCATION:Haus Regina Pacis, Leutkirch, Bischof-Sproll-Str. 9, 88299 Leutkirch im Allgäu
END:VEVENT
BEGIN:VEVENT
DTSTAMP:20260426T011553
DTSTART;TZID=Europe/Berlin:20270406T090000
DTEND;TZID=Europe/Berlin:20270406T200000
UID:271A14-20270406T090000@STIFTUNGLIEBENAU
SUMMARY:Zusatzqualifikation Führung für Team- und Abteilungsleitungen 2026/2027 - Teil 5 (271A14) 
LOCATION:Haus Regina Pacis, Leutkirch, Bischof-Sproll-Str. 9, 88299 Leutkirch im Allgäu
END:VEVENT
BEGIN:VEVENT
DTSTAMP:20260426T011553
DTSTART;TZID=Europe/Berlin:20270407T090000
DTEND;TZID=Europe/Berlin:20270407T160000
UID:271A14-20270407T090000@STIFTUNGLIEBENAU
SUMMARY:Zusatzqualifikation Führung für Team- und Abteilungsleitungen 2026/2027 - Teil 5 (271A14) 
LOCATION:Haus Regina Pacis, Leutkirch, Bischof-Sproll-Str. 9, 88299 Leutkirch im Allgäu
END:VEVENT
BEGIN:VEVENT
DTSTAMP:20260426T011553
DTSTART;TZID=Europe/Berlin:20270428T083000
DTEND;TZID=Europe/Berlin:20270428T160000
UID:271A15-20270428T083000@STIFTUNGLIEBENAU
SUMMARY:Zusatzqualifikation Führung für Team- und Abteilungsleitungen 2026/2027 - Kolloquium (271A15) 
LOCATION:Schloss Liebenau - Raum 1.08 Schlosssaal, Siggenweilerstraße 11, 88074 Meckenbeuren
END:VEVENT
END:VCALENDAR