BEGIN:VCALENDAR
PRODID:http://www.kufer.de/kuferweb / DE
VERSION:2.0
METHOD:PUBLISH
CALSCALE:GREGORIAN
X-WR-TIMEZONE:Europe/Berlin
BEGIN:VTIMEZONE
TZID:Europe/Berlin
X-LIC-LOCATION:Europe/Berlin
BEGIN:DAYLIGHT
TZOFFSETFROM:+0100
TZOFFSETTO:+0200
TZNAME:CEST
DTSTART;TZID=Europe/Berlin:19700329T020000
RRULE:FREQ=YEARLY;INTERVAL=1;BYDAY=-1SU;BYMONTH=3
END:DAYLIGHT
BEGIN:STANDARD
TZOFFSETFROM:+0200
TZOFFSETTO:+0100
TZNAME:CET
DTSTART;TZID=Europe/Berlin:19701025T030000
RRULE:FREQ=YEARLY;INTERVAL=1;BYDAY=-1SU;BYMONTH=10
END:STANDARD
END:VTIMEZONE
BEGIN:VEVENT
DTSTAMP:20260426T011707
DTSTART;TZID=Europe/Berlin:20260928T100000
DTEND;TZID=Europe/Berlin:20260928T180000
UID:261905-20260928T100000@STIFTUNGLIEBENAU
SUMMARY:Vertiefungskurs "Sozialräumlich unterwegs zur Inklusion - Qualifikation für Dienstleistungs- und Netzwerkmanagement" - Modul 1 Lokale Gestaltung des Welfare Mix (261905) 
LOCATION:Schwäbische Bauernschule Bad Waldsee, Frauenbergstr. 15, 88339 Bad Waldsee
END:VEVENT
BEGIN:VEVENT
DTSTAMP:20260426T011707
DTSTART;TZID=Europe/Berlin:20260929T090000
DTEND;TZID=Europe/Berlin:20260929T160000
UID:261905-20260929T090000@STIFTUNGLIEBENAU
SUMMARY:Vertiefungskurs "Sozialräumlich unterwegs zur Inklusion - Qualifikation für Dienstleistungs- und Netzwerkmanagement" - Modul 1 Lokale Gestaltung des Welfare Mix (261905) 
LOCATION:Schwäbische Bauernschule Bad Waldsee, Frauenbergstr. 15, 88339 Bad Waldsee
END:VEVENT
BEGIN:VEVENT
DTSTAMP:20260426T011707
DTSTART;TZID=Europe/Berlin:20260930T090000
DTEND;TZID=Europe/Berlin:20260930T123000
UID:261905-20260930T090000@STIFTUNGLIEBENAU
SUMMARY:Vertiefungskurs "Sozialräumlich unterwegs zur Inklusion - Qualifikation für Dienstleistungs- und Netzwerkmanagement" - Modul 1 Lokale Gestaltung des Welfare Mix (261905) 
LOCATION:Schwäbische Bauernschule Bad Waldsee, Frauenbergstr. 15, 88339 Bad Waldsee
END:VEVENT
BEGIN:VEVENT
DTSTAMP:20260426T011707
DTSTART;TZID=Europe/Berlin:20261116T100000
DTEND;TZID=Europe/Berlin:20261116T180000
UID:261906-20261116T100000@STIFTUNGLIEBENAU
SUMMARY:Vertiefungskurs "Sozialräumlich unterwegs zur Inklusion - Qualifikation für Dienstleistungs- und Netzwerkmanagement" - Modul 2 Kooperation mit der Kommune (Verwaltung und Politik) (261906) 
LOCATION:Schwäbische Bauernschule Bad Waldsee, Frauenbergstr. 15, 88339 Bad Waldsee
END:VEVENT
BEGIN:VEVENT
DTSTAMP:20260426T011707
DTSTART;TZID=Europe/Berlin:20261117T090000
DTEND;TZID=Europe/Berlin:20261117T160000
UID:261906-20261117T090000@STIFTUNGLIEBENAU
SUMMARY:Vertiefungskurs "Sozialräumlich unterwegs zur Inklusion - Qualifikation für Dienstleistungs- und Netzwerkmanagement" - Modul 2 Kooperation mit der Kommune (Verwaltung und Politik) (261906) 
LOCATION:Schwäbische Bauernschule Bad Waldsee, Frauenbergstr. 15, 88339 Bad Waldsee
END:VEVENT
BEGIN:VEVENT
DTSTAMP:20260426T011707
DTSTART;TZID=Europe/Berlin:20261118T090000
DTEND;TZID=Europe/Berlin:20261118T123000
UID:261906-20261118T090000@STIFTUNGLIEBENAU
SUMMARY:Vertiefungskurs "Sozialräumlich unterwegs zur Inklusion - Qualifikation für Dienstleistungs- und Netzwerkmanagement" - Modul 2 Kooperation mit der Kommune (Verwaltung und Politik) (261906) 
LOCATION:Schwäbische Bauernschule Bad Waldsee, Frauenbergstr. 15, 88339 Bad Waldsee
END:VEVENT
BEGIN:VEVENT
DTSTAMP:20260426T011707
DTSTART;TZID=Europe/Berlin:20261202T100000
DTEND;TZID=Europe/Berlin:20261202T180000
UID:261907-20261202T100000@STIFTUNGLIEBENAU
SUMMARY:Vertiefungskurs "Sozialräumlich unterwegs zur Inklusion - Qualifikation für Dienstleistungs- und Netzwerkmanagement" - Modul 3 Förderung und Dienstleistungsentwicklung (261907) 
LOCATION:Schwäbische Bauernschule Bad Waldsee, Frauenbergstr. 15, 88339 Bad Waldsee
END:VEVENT
BEGIN:VEVENT
DTSTAMP:20260426T011707
DTSTART;TZID=Europe/Berlin:20261203T090000
DTEND;TZID=Europe/Berlin:20261203T160000
UID:261907-20261203T090000@STIFTUNGLIEBENAU
SUMMARY:Vertiefungskurs "Sozialräumlich unterwegs zur Inklusion - Qualifikation für Dienstleistungs- und Netzwerkmanagement" - Modul 3 Förderung und Dienstleistungsentwicklung (261907) 
LOCATION:Schwäbische Bauernschule Bad Waldsee, Frauenbergstr. 15, 88339 Bad Waldsee
END:VEVENT
BEGIN:VEVENT
DTSTAMP:20260426T011707
DTSTART;TZID=Europe/Berlin:20261204T090000
DTEND;TZID=Europe/Berlin:20261204T123000
UID:261907-20261204T090000@STIFTUNGLIEBENAU
SUMMARY:Vertiefungskurs "Sozialräumlich unterwegs zur Inklusion - Qualifikation für Dienstleistungs- und Netzwerkmanagement" - Modul 3 Förderung und Dienstleistungsentwicklung (261907) 
LOCATION:Schwäbische Bauernschule Bad Waldsee, Frauenbergstr. 15, 88339 Bad Waldsee
END:VEVENT
BEGIN:VEVENT
DTSTAMP:20260426T011707
DTSTART;TZID=Europe/Berlin:20270416T110000
DTEND;TZID=Europe/Berlin:20270416T150000
UID:271903-20270416T110000@STIFTUNGLIEBENAU
SUMMARY:Vertiefungskurs DLNWM – Abschluss (271903) 
LOCATION:Schloss Liebenau - Raum 1.08 Schlosssaal, Siggenweilerstraße 11, 88074 Meckenbeuren
END:VEVENT
END:VCALENDAR