BEGIN:VCALENDAR
PRODID:http://www.kufer.de/kuferweb / DE
VERSION:2.0
METHOD:PUBLISH
CALSCALE:GREGORIAN
X-WR-TIMEZONE:Europe/Berlin
BEGIN:VTIMEZONE
TZID:Europe/Berlin
X-LIC-LOCATION:Europe/Berlin
BEGIN:DAYLIGHT
TZOFFSETFROM:+0100
TZOFFSETTO:+0200
TZNAME:CEST
DTSTART;TZID=Europe/Berlin:19700329T020000
RRULE:FREQ=YEARLY;INTERVAL=1;BYDAY=-1SU;BYMONTH=3
END:DAYLIGHT
BEGIN:STANDARD
TZOFFSETFROM:+0200
TZOFFSETTO:+0100
TZNAME:CET
DTSTART;TZID=Europe/Berlin:19701025T030000
RRULE:FREQ=YEARLY;INTERVAL=1;BYDAY=-1SU;BYMONTH=10
END:STANDARD
END:VTIMEZONE
BEGIN:VEVENT
DTSTAMP:20260426T011716
DTSTART;TZID=Europe/Berlin:20261020T090000
DTEND;TZID=Europe/Berlin:20261020T170000
UID:261431-20261020T090000@STIFTUNGLIEBENAU
SUMMARY:Medizinisch-pflegerische Grundqualifikation für pädagogische Mitarbeitende in Einrichtungen der Eingliederungshilfe Herbstkurs - Block A (261431) 
LOCATION:Schloss Liebenau - Raum 1.08 Schlosssaal, Siggenweilerstraße 11, 88074 Meckenbeuren
END:VEVENT
BEGIN:VEVENT
DTSTAMP:20260426T011716
DTSTART;TZID=Europe/Berlin:20261021T090000
DTEND;TZID=Europe/Berlin:20261021T170000
UID:261431-20261021T090000@STIFTUNGLIEBENAU
SUMMARY:Medizinisch-pflegerische Grundqualifikation für pädagogische Mitarbeitende in Einrichtungen der Eingliederungshilfe Herbstkurs - Block A (261431) 
LOCATION:Schloss Liebenau - Raum 1.08 Schlosssaal, Siggenweilerstraße 11, 88074 Meckenbeuren
END:VEVENT
BEGIN:VEVENT
DTSTAMP:20260426T011716
DTSTART;TZID=Europe/Berlin:20261126T090000
DTEND;TZID=Europe/Berlin:20261126T170000
UID:261433-20261126T090000@STIFTUNGLIEBENAU
SUMMARY:Medizinisch-pflegerische Grundqualifikation für pädagogische Mitarbeitende in Einrichtungen der Eingliederungshilfe Herbstkurs - Block C (261433) 
LOCATION:Schloss Liebenau - Raum 1.08 Schlosssaal, Siggenweilerstraße 11, 88074 Meckenbeuren
END:VEVENT
BEGIN:VEVENT
DTSTAMP:20260426T011716
DTSTART;TZID=Europe/Berlin:20261127T090000
DTEND;TZID=Europe/Berlin:20261127T170000
UID:261433-20261127T090000@STIFTUNGLIEBENAU
SUMMARY:Medizinisch-pflegerische Grundqualifikation für pädagogische Mitarbeitende in Einrichtungen der Eingliederungshilfe Herbstkurs - Block C (261433) 
LOCATION:Schloss Liebenau - Raum 1.08 Schlosssaal, Siggenweilerstraße 11, 88074 Meckenbeuren
END:VEVENT
BEGIN:VEVENT
DTSTAMP:20260426T011716
DTSTART;TZID=Europe/Berlin:20270114T090000
DTEND;TZID=Europe/Berlin:20270114T170000
UID:271401-20270114T090000@STIFTUNGLIEBENAU
SUMMARY:Medizinisch-pflegerische Grundqualifikation für pädagogische Mitarbeitende in Einrichtungen der Eingliederungshilfe Herbstkurs - Block D (271401) 
LOCATION:Schloss Liebenau - Raum 2.11, Siggenweilerstraße 11, 88074 Meckenbeuren
END:VEVENT
BEGIN:VEVENT
DTSTAMP:20260426T011716
DTSTART;TZID=Europe/Berlin:20270115T090000
DTEND;TZID=Europe/Berlin:20270115T170000
UID:271401-20270115T090000@STIFTUNGLIEBENAU
SUMMARY:Medizinisch-pflegerische Grundqualifikation für pädagogische Mitarbeitende in Einrichtungen der Eingliederungshilfe Herbstkurs - Block D (271401) 
LOCATION:Schloss Liebenau - Raum 2.11, Siggenweilerstraße 11, 88074 Meckenbeuren
END:VEVENT
END:VCALENDAR