BEGIN:VCALENDAR
PRODID:http://www.kufer.de/kuferweb / DE
VERSION:2.0
METHOD:PUBLISH
CALSCALE:GREGORIAN
X-WR-TIMEZONE:Europe/Berlin
BEGIN:VTIMEZONE
TZID:Europe/Berlin
X-LIC-LOCATION:Europe/Berlin
BEGIN:DAYLIGHT
TZOFFSETFROM:+0100
TZOFFSETTO:+0200
TZNAME:CEST
DTSTART;TZID=Europe/Berlin:19700329T020000
RRULE:FREQ=YEARLY;INTERVAL=1;BYDAY=-1SU;BYMONTH=3
END:DAYLIGHT
BEGIN:STANDARD
TZOFFSETFROM:+0200
TZOFFSETTO:+0100
TZNAME:CET
DTSTART;TZID=Europe/Berlin:19701025T030000
RRULE:FREQ=YEARLY;INTERVAL=1;BYDAY=-1SU;BYMONTH=10
END:STANDARD
END:VTIMEZONE
BEGIN:VEVENT
DTSTAMP:20260426T011749
DTSTART;TZID=Europe/Berlin:20260619T090000
DTEND;TZID=Europe/Berlin:20260619T170000
UID:261426-20260619T090000@STIFTUNGLIEBENAU
SUMMARY:Medizinisch-pflegerische Grundqualifikation für pädagogische Mitarbeitende in Einrichtungen der Eingliederungshilfe Sommerkurs - Block A (261426) 
LOCATION:Schloss Liebenau - Raum 1.08 Schlosssaal, Siggenweilerstraße 11, 88074 Meckenbeuren
END:VEVENT
BEGIN:VEVENT
DTSTAMP:20260426T011749
DTSTART;TZID=Europe/Berlin:20260717T090000
DTEND;TZID=Europe/Berlin:20260717T170000
UID:261426-20260717T090000@STIFTUNGLIEBENAU
SUMMARY:Medizinisch-pflegerische Grundqualifikation für pädagogische Mitarbeitende in Einrichtungen der Eingliederungshilfe Sommerkurs - Block A (261426) 
LOCATION:Schloss Liebenau - Raum 3.12, Siggenweilerstraße 11, 88074 Meckenbeuren
END:VEVENT
BEGIN:VEVENT
DTSTAMP:20260426T011749
DTSTART;TZID=Europe/Berlin:20260723T090000
DTEND;TZID=Europe/Berlin:20260723T170000
UID:261428-20260723T090000@STIFTUNGLIEBENAU
SUMMARY:Medizinisch-pflegerische Grundqualifikation für pädagogische Mitarbeitende in Einrichtungen der Eingliederungshilfe Sommerkurs - Block C (261428) 
LOCATION:Schloss Liebenau - Raum 1.08 Schlosssaal, Siggenweilerstraße 11, 88074 Meckenbeuren
END:VEVENT
BEGIN:VEVENT
DTSTAMP:20260426T011749
DTSTART;TZID=Europe/Berlin:20260724T090000
DTEND;TZID=Europe/Berlin:20260724T170000
UID:261428-20260724T090000@STIFTUNGLIEBENAU
SUMMARY:Medizinisch-pflegerische Grundqualifikation für pädagogische Mitarbeitende in Einrichtungen der Eingliederungshilfe Sommerkurs - Block C (261428) 
LOCATION:Schloss Liebenau - Raum 1.08 Schlosssaal, Siggenweilerstraße 11, 88074 Meckenbeuren
END:VEVENT
BEGIN:VEVENT
DTSTAMP:20260426T011749
DTSTART;TZID=Europe/Berlin:20261001T090000
DTEND;TZID=Europe/Berlin:20261001T170000
UID:261429-20261001T090000@STIFTUNGLIEBENAU
SUMMARY:Medizinisch-pflegerische Grundqualifikation für pädagogische Mitarbeitende in Einrichtungen der Eingliederungshilfe Sommerkurs - Block D (261429) 
LOCATION:Schloss Liebenau - Gallussaal, Siggenweilerstraße 11, 88074 Meckenbeuren
END:VEVENT
BEGIN:VEVENT
DTSTAMP:20260426T011749
DTSTART;TZID=Europe/Berlin:20261002T090000
DTEND;TZID=Europe/Berlin:20261002T170000
UID:261429-20261002T090000@STIFTUNGLIEBENAU
SUMMARY:Medizinisch-pflegerische Grundqualifikation für pädagogische Mitarbeitende in Einrichtungen der Eingliederungshilfe Sommerkurs - Block D (261429) 
LOCATION:Schloss Liebenau - Raum 3.12, Siggenweilerstraße 11, 88074 Meckenbeuren
END:VEVENT
END:VCALENDAR