BEGIN:VCALENDAR
PRODID:http://www.kufer.de/kuferweb / DE
VERSION:2.0
METHOD:PUBLISH
CALSCALE:GREGORIAN
X-WR-TIMEZONE:Europe/Berlin
BEGIN:VTIMEZONE
TZID:Europe/Berlin
X-LIC-LOCATION:Europe/Berlin
BEGIN:DAYLIGHT
TZOFFSETFROM:+0100
TZOFFSETTO:+0200
TZNAME:CEST
DTSTART;TZID=Europe/Berlin:19700329T020000
RRULE:FREQ=YEARLY;INTERVAL=1;BYDAY=-1SU;BYMONTH=3
END:DAYLIGHT
BEGIN:STANDARD
TZOFFSETFROM:+0200
TZOFFSETTO:+0100
TZNAME:CET
DTSTART;TZID=Europe/Berlin:19701025T030000
RRULE:FREQ=YEARLY;INTERVAL=1;BYDAY=-1SU;BYMONTH=10
END:STANDARD
END:VTIMEZONE
BEGIN:VEVENT
DTSTAMP:20260426T011717
DTSTART;TZID=Europe/Berlin:20261019T090000
DTEND;TZID=Europe/Berlin:20261019T170000
UID:261309-20261019T090000@STIFTUNGLIEBENAU
SUMMARY:Qualifizierung zur Betreuungsassistenz – Modul 1: Grundlagen der Betreuung und Krankheitsbilder (261309) 
LOCATION:Foyer, Hegenberg, Hegenberg, 88074 Meckenbeuren
END:VEVENT
BEGIN:VEVENT
DTSTAMP:20260426T011717
DTSTART;TZID=Europe/Berlin:20261020T090000
DTEND;TZID=Europe/Berlin:20261020T170000
UID:261309-20261020T090000@STIFTUNGLIEBENAU
SUMMARY:Qualifizierung zur Betreuungsassistenz – Modul 1: Grundlagen der Betreuung und Krankheitsbilder (261309) 
LOCATION:Foyer, Hegenberg, Hegenberg, 88074 Meckenbeuren
END:VEVENT
BEGIN:VEVENT
DTSTAMP:20260426T011717
DTSTART;TZID=Europe/Berlin:20261021T090000
DTEND;TZID=Europe/Berlin:20261021T170000
UID:261309-20261021T090000@STIFTUNGLIEBENAU
SUMMARY:Qualifizierung zur Betreuungsassistenz – Modul 1: Grundlagen der Betreuung und Krankheitsbilder (261309) 
LOCATION:Foyer, Hegenberg, Hegenberg, 88074 Meckenbeuren
END:VEVENT
BEGIN:VEVENT
DTSTAMP:20260426T011717
DTSTART;TZID=Europe/Berlin:20261116T090000
DTEND;TZID=Europe/Berlin:20261116T170000
UID:261310-20261116T090000@STIFTUNGLIEBENAU
SUMMARY:Qualifizierung zur Betreuungsassistenz – Modul 2: Pflegerische Grundlagen (261310) 
LOCATION:Foyer, Hegenberg, Hegenberg, 88074 Meckenbeuren
END:VEVENT
BEGIN:VEVENT
DTSTAMP:20260426T011717
DTSTART;TZID=Europe/Berlin:20261117T090000
DTEND;TZID=Europe/Berlin:20261117T170000
UID:261310-20261117T090000@STIFTUNGLIEBENAU
SUMMARY:Qualifizierung zur Betreuungsassistenz – Modul 2: Pflegerische Grundlagen (261310) 
LOCATION:Foyer, Hegenberg, Hegenberg, 88074 Meckenbeuren
END:VEVENT
BEGIN:VEVENT
DTSTAMP:20260426T011717
DTSTART;TZID=Europe/Berlin:20261118T090000
DTEND;TZID=Europe/Berlin:20261118T170000
UID:261310-20261118T090000@STIFTUNGLIEBENAU
SUMMARY:Qualifizierung zur Betreuungsassistenz – Modul 2: Pflegerische Grundlagen (261310) 
LOCATION:Foyer, Hegenberg, Hegenberg, 88074 Meckenbeuren
END:VEVENT
BEGIN:VEVENT
DTSTAMP:20260426T011717
DTSTART;TZID=Europe/Berlin:20261202T090000
DTEND;TZID=Europe/Berlin:20261202T170000
UID:261311-20261202T090000@STIFTUNGLIEBENAU
SUMMARY:Qualifizierung zur Betreuungsassistenz – Modul 3: Sicherheit und Mobilität (261311) 
LOCATION:Foyer, Hegenberg, Hegenberg, 88074 Meckenbeuren
END:VEVENT
BEGIN:VEVENT
DTSTAMP:20260426T011717
DTSTART;TZID=Europe/Berlin:20261203T090000
DTEND;TZID=Europe/Berlin:20261203T170000
UID:261311-20261203T090000@STIFTUNGLIEBENAU
SUMMARY:Qualifizierung zur Betreuungsassistenz – Modul 3: Sicherheit und Mobilität (261311) 
LOCATION:Foyer, Hegenberg, Hegenberg, 88074 Meckenbeuren
END:VEVENT
BEGIN:VEVENT
DTSTAMP:20260426T011717
DTSTART;TZID=Europe/Berlin:20261204T090000
DTEND;TZID=Europe/Berlin:20261204T170000
UID:261311-20261204T090000@STIFTUNGLIEBENAU
SUMMARY:Qualifizierung zur Betreuungsassistenz – Modul 3: Sicherheit und Mobilität (261311) 
LOCATION:Foyer, Hegenberg, Hegenberg, 88074 Meckenbeuren
END:VEVENT
BEGIN:VEVENT
DTSTAMP:20260426T011717
DTSTART;TZID=Europe/Berlin:20270118T090000
DTEND;TZID=Europe/Berlin:20270118T170000
UID:271301-20270118T090000@STIFTUNGLIEBENAU
SUMMARY:Qualifizierung zur Betreuungsassistenz – Modul 4: Aktivierung und Alltagsgestaltung (271301) 
LOCATION:Foyer, Hegenberg, Hegenberg, 88074 Meckenbeuren
END:VEVENT
BEGIN:VEVENT
DTSTAMP:20260426T011717
DTSTART;TZID=Europe/Berlin:20270119T090000
DTEND;TZID=Europe/Berlin:20270119T170000
UID:271301-20270119T090000@STIFTUNGLIEBENAU
SUMMARY:Qualifizierung zur Betreuungsassistenz – Modul 4: Aktivierung und Alltagsgestaltung (271301) 
LOCATION:Foyer, Hegenberg, Hegenberg, 88074 Meckenbeuren
END:VEVENT
BEGIN:VEVENT
DTSTAMP:20260426T011717
DTSTART;TZID=Europe/Berlin:20270120T090000
DTEND;TZID=Europe/Berlin:20270120T170000
UID:271301-20270120T090000@STIFTUNGLIEBENAU
SUMMARY:Qualifizierung zur Betreuungsassistenz – Modul 4: Aktivierung und Alltagsgestaltung (271301) 
LOCATION:Foyer, Hegenberg, Hegenberg, 88074 Meckenbeuren
END:VEVENT
BEGIN:VEVENT
DTSTAMP:20260426T011717
DTSTART;TZID=Europe/Berlin:20270215T090000
DTEND;TZID=Europe/Berlin:20270215T170000
UID:271302-20270215T090000@STIFTUNGLIEBENAU
SUMMARY:Qualifizierung zur Betreuungsassistenz – Modul 5: Begleitung am Lebensende und rechtliche Grundlagen (271302) 
LOCATION:Foyer, Hegenberg, Hegenberg, 88074 Meckenbeuren
END:VEVENT
BEGIN:VEVENT
DTSTAMP:20260426T011717
DTSTART;TZID=Europe/Berlin:20270216T090000
DTEND;TZID=Europe/Berlin:20270216T170000
UID:271302-20270216T090000@STIFTUNGLIEBENAU
SUMMARY:Qualifizierung zur Betreuungsassistenz – Modul 5: Begleitung am Lebensende und rechtliche Grundlagen (271302) 
LOCATION:Foyer, Hegenberg, Hegenberg, 88074 Meckenbeuren
END:VEVENT
BEGIN:VEVENT
DTSTAMP:20260426T011717
DTSTART;TZID=Europe/Berlin:20270315T090000
DTEND;TZID=Europe/Berlin:20270315T170000
UID:271303-20270315T090000@STIFTUNGLIEBENAU
SUMMARY:Qualifizierung zur Betreuungsassistenz – Modul 6: Kommunikation und Beziehungsgestaltung (271303) 
LOCATION:Foyer, Hegenberg, Hegenberg, 88074 Meckenbeuren
END:VEVENT
BEGIN:VEVENT
DTSTAMP:20260426T011717
DTSTART;TZID=Europe/Berlin:20270316T090000
DTEND;TZID=Europe/Berlin:20270316T170000
UID:271303-20270316T090000@STIFTUNGLIEBENAU
SUMMARY:Qualifizierung zur Betreuungsassistenz – Modul 6: Kommunikation und Beziehungsgestaltung (271303) 
LOCATION:Foyer, Hegenberg, Hegenberg, 88074 Meckenbeuren
END:VEVENT
BEGIN:VEVENT
DTSTAMP:20260426T011717
DTSTART;TZID=Europe/Berlin:20270317T090000
DTEND;TZID=Europe/Berlin:20270317T170000
UID:271303-20270317T090000@STIFTUNGLIEBENAU
SUMMARY:Qualifizierung zur Betreuungsassistenz – Modul 6: Kommunikation und Beziehungsgestaltung (271303) 
LOCATION:Foyer, Hegenberg, Hegenberg, 88074 Meckenbeuren
END:VEVENT
BEGIN:VEVENT
DTSTAMP:20260426T011717
DTSTART;TZID=Europe/Berlin:20270405T090000
DTEND;TZID=Europe/Berlin:20270405T170000
UID:271304-20270405T090000@STIFTUNGLIEBENAU
SUMMARY:Qualifizierung zur Betreuungsassistenz – Modul 7: Hygiene und Hauswirtschaft (271304) 
LOCATION:Foyer, Hegenberg, Hegenberg, 88074 Meckenbeuren
END:VEVENT
BEGIN:VEVENT
DTSTAMP:20260426T011717
DTSTART;TZID=Europe/Berlin:20270406T090000
DTEND;TZID=Europe/Berlin:20270406T170000
UID:271304-20270406T090000@STIFTUNGLIEBENAU
SUMMARY:Qualifizierung zur Betreuungsassistenz – Modul 7: Hygiene und Hauswirtschaft (271304) 
LOCATION:Foyer, Hegenberg, Hegenberg, 88074 Meckenbeuren
END:VEVENT
BEGIN:VEVENT
DTSTAMP:20260426T011717
DTSTART;TZID=Europe/Berlin:20270511T090000
DTEND;TZID=Europe/Berlin:20270511T170000
UID:271305-20270511T090000@STIFTUNGLIEBENAU
SUMMARY:Qualifizierung zur Betreuungsassistenz – Modul 8: Zusammenarbeit (271305) 
LOCATION:Foyer, Hegenberg, Hegenberg, 88074 Meckenbeuren
END:VEVENT
BEGIN:VEVENT
DTSTAMP:20260426T011717
DTSTART;TZID=Europe/Berlin:20270512T090000
DTEND;TZID=Europe/Berlin:20270512T170000
UID:271305-20270512T090000@STIFTUNGLIEBENAU
SUMMARY:Qualifizierung zur Betreuungsassistenz – Modul 8: Zusammenarbeit (271305) 
LOCATION:Foyer, Hegenberg, Hegenberg, 88074 Meckenbeuren
END:VEVENT
BEGIN:VEVENT
DTSTAMP:20260426T011717
DTSTART;TZID=Europe/Berlin:20270607T090000
DTEND;TZID=Europe/Berlin:20270607T170000
UID:271306-20270607T090000@STIFTUNGLIEBENAU
SUMMARY:Qualifizierung zur Betreuungsassistenz – Modul 9: Abschluss (271306) 
LOCATION:Schloss Liebenau - Raum 1.08 Schlosssaal, Siggenweilerstraße 11, 88074 Meckenbeuren
END:VEVENT
END:VCALENDAR