BEGIN:VCALENDAR
PRODID:http://www.kufer.de/kuferweb / DE
VERSION:2.0
METHOD:PUBLISH
CALSCALE:GREGORIAN
X-WR-TIMEZONE:Europe/Berlin
BEGIN:VTIMEZONE
TZID:Europe/Berlin
X-LIC-LOCATION:Europe/Berlin
BEGIN:DAYLIGHT
TZOFFSETFROM:+0100
TZOFFSETTO:+0200
TZNAME:CEST
DTSTART;TZID=Europe/Berlin:19700329T020000
RRULE:FREQ=YEARLY;INTERVAL=1;BYDAY=-1SU;BYMONTH=3
END:DAYLIGHT
BEGIN:STANDARD
TZOFFSETFROM:+0200
TZOFFSETTO:+0100
TZNAME:CET
DTSTART;TZID=Europe/Berlin:19701025T030000
RRULE:FREQ=YEARLY;INTERVAL=1;BYDAY=-1SU;BYMONTH=10
END:STANDARD
END:VTIMEZONE
BEGIN:VEVENT
DTSTAMP:20260426T011707
DTSTART;TZID=Europe/Berlin:20261005T090000
DTEND;TZID=Europe/Berlin:20261005T163000
UID:261234-20261005T090000@STIFTUNGLIEBENAU
SUMMARY:Unterstützte Kommunikation – Grundkurs nach Standard der Gesellschaft für Unterstützte Kommunikation e. V. – Kurs I (261234) 
LOCATION:Schloss Liebenau - Raum 1.08 Schlosssaal, Siggenweilerstraße 11, 88074 Meckenbeuren
END:VEVENT
BEGIN:VEVENT
DTSTAMP:20260426T011707
DTSTART;TZID=Europe/Berlin:20261006T090000
DTEND;TZID=Europe/Berlin:20261006T163000
UID:261234-20261006T090000@STIFTUNGLIEBENAU
SUMMARY:Unterstützte Kommunikation – Grundkurs nach Standard der Gesellschaft für Unterstützte Kommunikation e. V. – Kurs I (261234) 
LOCATION:Schloss Liebenau - Raum 1.08 Schlosssaal, Siggenweilerstraße 11, 88074 Meckenbeuren
END:VEVENT
END:VCALENDAR