BEGIN:VCALENDAR
PRODID:http://www.kufer.de/kuferweb / DE
VERSION:2.0
METHOD:PUBLISH
CALSCALE:GREGORIAN
X-WR-TIMEZONE:Europe/Berlin
BEGIN:VTIMEZONE
TZID:Europe/Berlin
X-LIC-LOCATION:Europe/Berlin
BEGIN:DAYLIGHT
TZOFFSETFROM:+0100
TZOFFSETTO:+0200
TZNAME:CEST
DTSTART;TZID=Europe/Berlin:19700329T020000
RRULE:FREQ=YEARLY;INTERVAL=1;BYDAY=-1SU;BYMONTH=3
END:DAYLIGHT
BEGIN:STANDARD
TZOFFSETFROM:+0200
TZOFFSETTO:+0100
TZNAME:CET
DTSTART;TZID=Europe/Berlin:19701025T030000
RRULE:FREQ=YEARLY;INTERVAL=1;BYDAY=-1SU;BYMONTH=10
END:STANDARD
END:VTIMEZONE
BEGIN:VEVENT
DTSTAMP:20260426T011722
DTSTART;TZID=Europe/Berlin:20261116T090000
DTEND;TZID=Europe/Berlin:20261116T170000
UID:261232-20261116T090000@STIFTUNGLIEBENAU
SUMMARY:Systemisches Arbeiten in der Erziehung, Betreuung und Assistenz von Kindern, Jugendlichen und Erwachsenen 2026/2027 - Teil 1: Familienkontext (261232) 
LOCATION:Schloss Liebenau - Raum 1.08 Schlosssaal, Siggenweilerstraße 11, 88074 Meckenbeuren
END:VEVENT
BEGIN:VEVENT
DTSTAMP:20260426T011722
DTSTART;TZID=Europe/Berlin:20261117T090000
DTEND;TZID=Europe/Berlin:20261117T170000
UID:261232-20261117T090000@STIFTUNGLIEBENAU
SUMMARY:Systemisches Arbeiten in der Erziehung, Betreuung und Assistenz von Kindern, Jugendlichen und Erwachsenen 2026/2027 - Teil 1: Familienkontext (261232) 
LOCATION:Schloss Liebenau - Raum 1.08 Schlosssaal, Siggenweilerstraße 11, 88074 Meckenbeuren
END:VEVENT
BEGIN:VEVENT
DTSTAMP:20260426T011722
DTSTART;TZID=Europe/Berlin:20261118T090000
DTEND;TZID=Europe/Berlin:20261118T170000
UID:261232-20261118T090000@STIFTUNGLIEBENAU
SUMMARY:Systemisches Arbeiten in der Erziehung, Betreuung und Assistenz von Kindern, Jugendlichen und Erwachsenen 2026/2027 - Teil 1: Familienkontext (261232) 
LOCATION:Schloss Liebenau - Raum 1.08 Schlosssaal, Siggenweilerstraße 11, 88074 Meckenbeuren
END:VEVENT
BEGIN:VEVENT
DTSTAMP:20260426T011722
DTSTART;TZID=Europe/Berlin:20270217T090000
DTEND;TZID=Europe/Berlin:20270217T170000
UID:271203-20270217T090000@STIFTUNGLIEBENAU
SUMMARY:Systemisches Arbeiten in der Erziehung, Betreuung und Assistenz von Kindern, Jugendlichen und Erwachsenen 2026/2027 - Teil 2: Kontext Lebenswelt (271203) 
LOCATION:Schloss Liebenau - Raum 1.08 Schlosssaal, Siggenweilerstraße 11, 88074 Meckenbeuren
END:VEVENT
BEGIN:VEVENT
DTSTAMP:20260426T011722
DTSTART;TZID=Europe/Berlin:20270218T090000
DTEND;TZID=Europe/Berlin:20270218T170000
UID:271203-20270218T090000@STIFTUNGLIEBENAU
SUMMARY:Systemisches Arbeiten in der Erziehung, Betreuung und Assistenz von Kindern, Jugendlichen und Erwachsenen 2026/2027 - Teil 2: Kontext Lebenswelt (271203) 
LOCATION:Schloss Liebenau - Raum 1.08 Schlosssaal, Siggenweilerstraße 11, 88074 Meckenbeuren
END:VEVENT
BEGIN:VEVENT
DTSTAMP:20260426T011722
DTSTART;TZID=Europe/Berlin:20270219T090000
DTEND;TZID=Europe/Berlin:20270219T170000
UID:271203-20270219T090000@STIFTUNGLIEBENAU
SUMMARY:Systemisches Arbeiten in der Erziehung, Betreuung und Assistenz von Kindern, Jugendlichen und Erwachsenen 2026/2027 - Teil 2: Kontext Lebenswelt (271203) 
LOCATION:Schloss Liebenau - Raum 1.08 Schlosssaal, Siggenweilerstraße 11, 88074 Meckenbeuren
END:VEVENT
BEGIN:VEVENT
DTSTAMP:20260426T011722
DTSTART;TZID=Europe/Berlin:20270609T090000
DTEND;TZID=Europe/Berlin:20270609T163000
UID:271204-20270609T090000@STIFTUNGLIEBENAU
SUMMARY:Systemisches Arbeiten in der Erziehung, Betreuung und Assistenz von Kindern, Jugendlichen und Erwachsenen 2026/2027 - Teil 3: Institutioneller Kontext (271204) 
LOCATION:Schloss Liebenau - Raum 3.12, Siggenweilerstraße 11, 88074 Meckenbeuren
END:VEVENT
BEGIN:VEVENT
DTSTAMP:20260426T011722
DTSTART;TZID=Europe/Berlin:20270610T090000
DTEND;TZID=Europe/Berlin:20270610T163000
UID:271204-20270610T090000@STIFTUNGLIEBENAU
SUMMARY:Systemisches Arbeiten in der Erziehung, Betreuung und Assistenz von Kindern, Jugendlichen und Erwachsenen 2026/2027 - Teil 3: Institutioneller Kontext (271204) 
LOCATION:Schloss Liebenau - Raum 3.12, Siggenweilerstraße 11, 88074 Meckenbeuren
END:VEVENT
BEGIN:VEVENT
DTSTAMP:20260426T011722
DTSTART;TZID=Europe/Berlin:20270611T090000
DTEND;TZID=Europe/Berlin:20270611T163000
UID:271204-20270611T090000@STIFTUNGLIEBENAU
SUMMARY:Systemisches Arbeiten in der Erziehung, Betreuung und Assistenz von Kindern, Jugendlichen und Erwachsenen 2026/2027 - Teil 3: Institutioneller Kontext (271204) 
LOCATION:Schloss Liebenau - Raum 3.12, Siggenweilerstraße 11, 88074 Meckenbeuren
END:VEVENT
END:VCALENDAR